BEGIN:VCALENDAR
PRODID:-//Yokohama City//Yokohama Calendar 2.0//EN
VERSION:2.0
CALSCALE:GREGORIAN
METHOD:PUBLISH

BEGIN:VTIMEZONE
TZID:Japan
BEGIN:STANDARD
DTSTART:19390101T000000
TZOFFSETFROM:+0900
TZOFFSETTO:+0900
TZNAME:JST
END:STANDARD
END:VTIMEZONE


BEGIN:VEVENT
DTSTART;TZID=Japan:20260427T103000
DTEND;TZID=Japan:20260427T110000
DTSTAMP:20260419T100143+0900
UID:yokohama-calendar-110358@city.yokohama.jp
CREATED:20260419T095558+0900
LOCATION:西谷地区センター 
TRANSP:OPAQUE
SEQUENCE:0
SUMMARY:親子で楽しいおはなし会 
DESCRIPTION:絵本の読み聞かせやエプロンシアターをします。
PRIORITY:0
CLASS:PUBLIC
END:VEVENT



END:VCALENDAR