BEGIN:VCALENDAR
PRODID:-//Yokohama City//Yokohama Calendar 2.0//EN
VERSION:2.0
CALSCALE:GREGORIAN
METHOD:PUBLISH

BEGIN:VTIMEZONE
TZID:Japan
BEGIN:STANDARD
DTSTART:19390101T000000
TZOFFSETFROM:+0900
TZOFFSETTO:+0900
TZNAME:JST
END:STANDARD
END:VTIMEZONE


BEGIN:VEVENT
DTSTART;TZID=Japan:20260509T100000
DTEND;TZID=Japan:20260509T113000
DTSTAMP:20260419T115017+0900
UID:yokohama-calendar-110355@city.yokohama.jp
CREATED:20260418T162158+0900
LOCATION:西谷地区センター 
TRANSP:OPAQUE
SEQUENCE:0
SUMMARY:わたしの一品 母の日のブーケリース 
DESCRIPTION:母の日に手作りのブーケリースを贈りませんか?\n講師は 「草花を楽しもう!」の相沢先生です。
PRIORITY:0
CLASS:PUBLIC
END:VEVENT



END:VCALENDAR