BEGIN:VCALENDAR
PRODID:-//Yokohama City//Yokohama Calendar 2.0//EN
VERSION:2.0
CALSCALE:GREGORIAN
METHOD:PUBLISH

BEGIN:VTIMEZONE
TZID:Japan
BEGIN:STANDARD
DTSTART:19390101T000000
TZOFFSETFROM:+0900
TZOFFSETTO:+0900
TZNAME:JST
END:STANDARD
END:VTIMEZONE


BEGIN:VEVENT
DTSTART;TZID=Japan:20260701T090000
DTEND;TZID=Japan:20260701T203000
DTSTAMP:20260417T135948+0900
UID:yokohama-calendar-110177@city.yokohama.jp
CREATED:20260405T095012+0900
LOCATION:大鳥中学校コミニュティハウス 
TRANSP:OPAQUE
SEQUENCE:0
SUMMARY:コミハで七夕! 短冊に願いを込めて
DESCRIPTION:コミハで七夕を楽しみましょう!短冊にお願いを書いて、コミハに飾ります。
PRIORITY:0
CLASS:PUBLIC
END:VEVENT

BEGIN:VEVENT
DTSTART;TZID=Japan:20260702T090000
DTEND;TZID=Japan:20260702T203000
DTSTAMP:20260417T135948+0900
UID:yokohama-calendar-110177@city.yokohama.jp
CREATED:20260405T095012+0900
LOCATION:大鳥中学校コミニュティハウス 
TRANSP:OPAQUE
SEQUENCE:0
SUMMARY:コミハで七夕! 短冊に願いを込めて
DESCRIPTION:コミハで七夕を楽しみましょう!短冊にお願いを書いて、コミハに飾ります。
PRIORITY:0
CLASS:PUBLIC
END:VEVENT

BEGIN:VEVENT
DTSTART;TZID=Japan:20260703T090000
DTEND;TZID=Japan:20260703T203000
DTSTAMP:20260417T135948+0900
UID:yokohama-calendar-110177@city.yokohama.jp
CREATED:20260405T095012+0900
LOCATION:大鳥中学校コミニュティハウス 
TRANSP:OPAQUE
SEQUENCE:0
SUMMARY:コミハで七夕! 短冊に願いを込めて
DESCRIPTION:コミハで七夕を楽しみましょう!短冊にお願いを書いて、コミハに飾ります。
PRIORITY:0
CLASS:PUBLIC
END:VEVENT

BEGIN:VEVENT
DTSTART;TZID=Japan:20260704T090000
DTEND;TZID=Japan:20260704T203000
DTSTAMP:20260417T135948+0900
UID:yokohama-calendar-110177@city.yokohama.jp
CREATED:20260405T095012+0900
LOCATION:大鳥中学校コミニュティハウス 
TRANSP:OPAQUE
SEQUENCE:0
SUMMARY:コミハで七夕! 短冊に願いを込めて
DESCRIPTION:コミハで七夕を楽しみましょう!短冊にお願いを書いて、コミハに飾ります。
PRIORITY:0
CLASS:PUBLIC
END:VEVENT

BEGIN:VEVENT
DTSTART;TZID=Japan:20260705T090000
DTEND;TZID=Japan:20260705T203000
DTSTAMP:20260417T135948+0900
UID:yokohama-calendar-110177@city.yokohama.jp
CREATED:20260405T095012+0900
LOCATION:大鳥中学校コミニュティハウス 
TRANSP:OPAQUE
SEQUENCE:0
SUMMARY:コミハで七夕! 短冊に願いを込めて
DESCRIPTION:コミハで七夕を楽しみましょう!短冊にお願いを書いて、コミハに飾ります。
PRIORITY:0
CLASS:PUBLIC
END:VEVENT

BEGIN:VEVENT
DTSTART;TZID=Japan:20260706T090000
DTEND;TZID=Japan:20260706T203000
DTSTAMP:20260417T135948+0900
UID:yokohama-calendar-110177@city.yokohama.jp
CREATED:20260405T095012+0900
LOCATION:大鳥中学校コミニュティハウス 
TRANSP:OPAQUE
SEQUENCE:0
SUMMARY:コミハで七夕! 短冊に願いを込めて
DESCRIPTION:コミハで七夕を楽しみましょう!短冊にお願いを書いて、コミハに飾ります。
PRIORITY:0
CLASS:PUBLIC
END:VEVENT



END:VCALENDAR