BEGIN:VCALENDAR
PRODID:-//Yokohama City//Yokohama Calendar 2.0//EN
VERSION:2.0
CALSCALE:GREGORIAN
METHOD:PUBLISH

BEGIN:VTIMEZONE
TZID:Japan
BEGIN:STANDARD
DTSTART:19390101T000000
TZOFFSETFROM:+0900
TZOFFSETTO:+0900
TZNAME:JST
END:STANDARD
END:VTIMEZONE


BEGIN:VEVENT
DTSTART;TZID=Japan:20260627T130000
DTEND;TZID=Japan:20260627T150000
DTSTAMP:20260404T141111+0900
UID:yokohama-calendar-110175@city.yokohama.jp
CREATED:20260404T141111+0900
LOCATION:大鳥中学校コミニュティハウス 
TRANSP:OPAQUE
SEQUENCE:0
SUMMARY:テラリウム作り ～ビンの中に作るお気に入りの世界～
DESCRIPTION:ビンの中に石・コケ・フィギュアなどでお気に入りの世界を作ります。お手入れも簡単で、長く楽しむことができます。
PRIORITY:0
CLASS:PUBLIC
END:VEVENT



END:VCALENDAR