BEGIN:VCALENDAR
PRODID:-//Yokohama City//Yokohama Calendar 2.0//EN
VERSION:2.0
CALSCALE:GREGORIAN
METHOD:PUBLISH

BEGIN:VTIMEZONE
TZID:Japan
BEGIN:STANDARD
DTSTART:19390101T000000
TZOFFSETFROM:+0900
TZOFFSETTO:+0900
TZNAME:JST
END:STANDARD
END:VTIMEZONE


BEGIN:VEVENT
DTSTART;TZID=Japan:20260708T153000
DTEND;TZID=Japan:20260708T160000
DTSTAMP:20260404T140000+0900
UID:yokohama-calendar-110174@city.yokohama.jp
CREATED:20260404T135929+0900
LOCATION:大鳥中学校コミニュティハウス 
TRANSP:OPAQUE
SEQUENCE:0
SUMMARY:ことりの会の夏の特別なおはなしの時間 ～今年は、どんな夏物語かな?～
DESCRIPTION:夏の特別なおはなしの時間です。\n\n
PRIORITY:0
CLASS:PUBLIC
END:VEVENT



END:VCALENDAR