BEGIN:VCALENDAR
PRODID:-//Yokohama City//Yokohama Calendar 2.0//EN
VERSION:2.0
CALSCALE:GREGORIAN
METHOD:PUBLISH

BEGIN:VTIMEZONE
TZID:Japan
BEGIN:STANDARD
DTSTART:19390101T000000
TZOFFSETFROM:+0900
TZOFFSETTO:+0900
TZNAME:JST
END:STANDARD
END:VTIMEZONE


BEGIN:VEVENT
DTSTART;VALUE=DATE:20260627
DTEND;VALUE=DATE:20260627
DTSTAMP:20260315T100835+0900
UID:yokohama-calendar-109684@city.yokohama.jp
CREATED:20260219T115755+0900
LOCATION:上中里地区センター 
TRANSP:OPAQUE
SEQUENCE:0
SUMMARY:レジンアート ～オリジナルチャーム作り～
DESCRIPTION:レジンの中に押し花を入れて世界に一つだけのオリジナルチャームを作ります。\nデザインは2種類でお好きな方をお選びください。
PRIORITY:0
CLASS:PUBLIC
END:VEVENT



END:VCALENDAR