BEGIN:VCALENDAR
PRODID:-//Yokohama City//Yokohama Calendar 2.0//EN
VERSION:2.0
CALSCALE:GREGORIAN
METHOD:PUBLISH

BEGIN:VTIMEZONE
TZID:Japan
BEGIN:STANDARD
DTSTART:19390101T000000
TZOFFSETFROM:+0900
TZOFFSETTO:+0900
TZNAME:JST
END:STANDARD
END:VTIMEZONE


BEGIN:VEVENT
DTSTART;TZID=Japan:20260422T093000
DTEND;TZID=Japan:20260422T113000
DTSTAMP:20260207T110953+0900
UID:yokohama-calendar-109512@city.yokohama.jp
CREATED:20260207T110804+0900
LOCATION:神之木地区センター 神之木地区センター
TRANSP:OPAQUE
SEQUENCE:0
SUMMARY:おりがみ教室(4月クラス) 
DESCRIPTION:おりがみは手先も使い、脳トレに最適!季節のかわいい作品を作ってお部屋に飾ってみませんか?
PRIORITY:0
CLASS:PUBLIC
END:VEVENT



END:VCALENDAR