BEGIN:VCALENDAR
PRODID:-//Yokohama City//Yokohama Calendar 2.0//EN
VERSION:2.0
CALSCALE:GREGORIAN
METHOD:PUBLISH

BEGIN:VTIMEZONE
TZID:Japan
BEGIN:STANDARD
DTSTART:19390101T000000
TZOFFSETFROM:+0900
TZOFFSETTO:+0900
TZNAME:JST
END:STANDARD
END:VTIMEZONE



BEGIN:VEVENT
DTSTART;TZID=Japan:20260514T103000
DTEND;TZID=Japan:20260514T123000
DTSTAMP:20260207T102546+0900
UID:yokohama-calendar-109507@city.yokohama.jp
CREATED:20260207T102546+0900
LOCATION:神之木地区センター 
TRANSP:OPAQUE
SEQUENCE:0
SUMMARY:ソープカービング体験 
DESCRIPTION:成人向け講座。\n専用ナイフで石けんをカービング(彫刻)して、お花を作る。\nカービングを通してモノづくりの楽しさを体験。\n\n
PRIORITY:0
CLASS:PUBLIC
END:VEVENT

BEGIN:VEVENT
DTSTART;TZID=Japan:20260521T103000
DTEND;TZID=Japan:20260521T123000
DTSTAMP:20260207T102546+0900
UID:yokohama-calendar-109507@city.yokohama.jp
CREATED:20260207T102546+0900
LOCATION:神之木地区センター 
TRANSP:OPAQUE
SEQUENCE:0
SUMMARY:ソープカービング体験 
DESCRIPTION:成人向け講座。\n専用ナイフで石けんをカービング(彫刻)して、お花を作る。\nカービングを通してモノづくりの楽しさを体験。\n\n
PRIORITY:0
CLASS:PUBLIC
END:VEVENT



END:VCALENDAR