BEGIN:VCALENDAR
PRODID:-//Yokohama City//Yokohama Calendar 2.0//EN
VERSION:2.0
CALSCALE:GREGORIAN
METHOD:PUBLISH

BEGIN:VTIMEZONE
TZID:Japan
BEGIN:STANDARD
DTSTART:19390101T000000
TZOFFSETFROM:+0900
TZOFFSETTO:+0900
TZNAME:JST
END:STANDARD
END:VTIMEZONE


BEGIN:VEVENT
DTSTART;TZID=Japan:20260526T100000
DTEND;TZID=Japan:20260526T113000
DTSTAMP:20260202T095213+0900
UID:yokohama-calendar-109375@city.yokohama.jp
CREATED:20260202T095213+0900
LOCATION:滝頭地域ケアプラザ 
TRANSP:OPAQUE
SEQUENCE:0
SUMMARY:ままとベビーの体操「ぴよぴよ」 
DESCRIPTION:音楽に合わせて、楽しく親子体操やベビーマッサージを行います。\n親子で仲間作りもできます♪\n
PRIORITY:0
CLASS:PUBLIC
END:VEVENT



END:VCALENDAR