BEGIN:VCALENDAR
PRODID:-//Yokohama City//Yokohama Calendar 2.0//EN
VERSION:2.0
CALSCALE:GREGORIAN
METHOD:PUBLISH

BEGIN:VTIMEZONE
TZID:Japan
BEGIN:STANDARD
DTSTART:19390101T000000
TZOFFSETFROM:+0900
TZOFFSETTO:+0900
TZNAME:JST
END:STANDARD
END:VTIMEZONE


BEGIN:VEVENT
DTSTART;TZID=Japan:20260512T100000
DTEND;TZID=Japan:20260512T110000
DTSTAMP:20260202T094328+0900
UID:yokohama-calendar-109374@city.yokohama.jp
CREATED:20260202T094328+0900
LOCATION:滝頭地域ケアプラザ 
TRANSP:OPAQUE
SEQUENCE:0
SUMMARY:ママのピラティス～産後ケア～ 
DESCRIPTION:産後の身体を整えるピラティス。赤ちゃん連れでも安心して通える、ママのためのリフレッシュ時間です。
PRIORITY:0
CLASS:PUBLIC
END:VEVENT



END:VCALENDAR