BEGIN:VCALENDAR
PRODID:-//Yokohama City//Yokohama Calendar 2.0//EN
VERSION:2.0
CALSCALE:GREGORIAN
METHOD:PUBLISH

BEGIN:VTIMEZONE
TZID:Japan
BEGIN:STANDARD
DTSTART:19390101T000000
TZOFFSETFROM:+0900
TZOFFSETTO:+0900
TZNAME:JST
END:STANDARD
END:VTIMEZONE


BEGIN:VEVENT
DTSTART;VALUE=DATE:20260425
DTEND;VALUE=DATE:20260426
DTSTAMP:20260110T150356+0900
UID:yokohama-calendar-109079@city.yokohama.jp
CREATED:20260110T150356+0900
LOCATION:浅間コミュニティハウス 
TRANSP:OPAQUE
SEQUENCE:0
SUMMARY:こどもの日イベント 鯉のぼりを完成させよう
DESCRIPTION:自分で好きなうろこの模様を描いて館内の大きな鯉のぼりを完成させよう。プチプレゼントもあります。
PRIORITY:0
CLASS:PUBLIC
END:VEVENT

BEGIN:VEVENT
DTSTART;VALUE=DATE:20260426
DTEND;VALUE=DATE:20260427
DTSTAMP:20260110T150356+0900
UID:yokohama-calendar-109079@city.yokohama.jp
CREATED:20260110T150356+0900
LOCATION:浅間コミュニティハウス 
TRANSP:OPAQUE
SEQUENCE:0
SUMMARY:こどもの日イベント 鯉のぼりを完成させよう
DESCRIPTION:自分で好きなうろこの模様を描いて館内の大きな鯉のぼりを完成させよう。プチプレゼントもあります。
PRIORITY:0
CLASS:PUBLIC
END:VEVENT

BEGIN:VEVENT
DTSTART;VALUE=DATE:20260427
DTEND;VALUE=DATE:20260428
DTSTAMP:20260110T150356+0900
UID:yokohama-calendar-109079@city.yokohama.jp
CREATED:20260110T150356+0900
LOCATION:浅間コミュニティハウス 
TRANSP:OPAQUE
SEQUENCE:0
SUMMARY:こどもの日イベント 鯉のぼりを完成させよう
DESCRIPTION:自分で好きなうろこの模様を描いて館内の大きな鯉のぼりを完成させよう。プチプレゼントもあります。
PRIORITY:0
CLASS:PUBLIC
END:VEVENT

BEGIN:VEVENT
DTSTART;VALUE=DATE:20260428
DTEND;VALUE=DATE:20260429
DTSTAMP:20260110T150356+0900
UID:yokohama-calendar-109079@city.yokohama.jp
CREATED:20260110T150356+0900
LOCATION:浅間コミュニティハウス 
TRANSP:OPAQUE
SEQUENCE:0
SUMMARY:こどもの日イベント 鯉のぼりを完成させよう
DESCRIPTION:自分で好きなうろこの模様を描いて館内の大きな鯉のぼりを完成させよう。プチプレゼントもあります。
PRIORITY:0
CLASS:PUBLIC
END:VEVENT

BEGIN:VEVENT
DTSTART;VALUE=DATE:20260429
DTEND;VALUE=DATE:20260430
DTSTAMP:20260110T150356+0900
UID:yokohama-calendar-109079@city.yokohama.jp
CREATED:20260110T150356+0900
LOCATION:浅間コミュニティハウス 
TRANSP:OPAQUE
SEQUENCE:0
SUMMARY:こどもの日イベント 鯉のぼりを完成させよう
DESCRIPTION:自分で好きなうろこの模様を描いて館内の大きな鯉のぼりを完成させよう。プチプレゼントもあります。
PRIORITY:0
CLASS:PUBLIC
END:VEVENT

BEGIN:VEVENT
DTSTART;VALUE=DATE:20260430
DTEND;VALUE=DATE:20260501
DTSTAMP:20260110T150356+0900
UID:yokohama-calendar-109079@city.yokohama.jp
CREATED:20260110T150356+0900
LOCATION:浅間コミュニティハウス 
TRANSP:OPAQUE
SEQUENCE:0
SUMMARY:こどもの日イベント 鯉のぼりを完成させよう
DESCRIPTION:自分で好きなうろこの模様を描いて館内の大きな鯉のぼりを完成させよう。プチプレゼントもあります。
PRIORITY:0
CLASS:PUBLIC
END:VEVENT

BEGIN:VEVENT
DTSTART;VALUE=DATE:20260501
DTEND;VALUE=DATE:20260502
DTSTAMP:20260110T150356+0900
UID:yokohama-calendar-109079@city.yokohama.jp
CREATED:20260110T150356+0900
LOCATION:浅間コミュニティハウス 
TRANSP:OPAQUE
SEQUENCE:0
SUMMARY:こどもの日イベント 鯉のぼりを完成させよう
DESCRIPTION:自分で好きなうろこの模様を描いて館内の大きな鯉のぼりを完成させよう。プチプレゼントもあります。
PRIORITY:0
CLASS:PUBLIC
END:VEVENT

BEGIN:VEVENT
DTSTART;VALUE=DATE:20260502
DTEND;VALUE=DATE:20260503
DTSTAMP:20260110T150356+0900
UID:yokohama-calendar-109079@city.yokohama.jp
CREATED:20260110T150356+0900
LOCATION:浅間コミュニティハウス 
TRANSP:OPAQUE
SEQUENCE:0
SUMMARY:こどもの日イベント 鯉のぼりを完成させよう
DESCRIPTION:自分で好きなうろこの模様を描いて館内の大きな鯉のぼりを完成させよう。プチプレゼントもあります。
PRIORITY:0
CLASS:PUBLIC
END:VEVENT

BEGIN:VEVENT
DTSTART;VALUE=DATE:20260503
DTEND;VALUE=DATE:20260504
DTSTAMP:20260110T150356+0900
UID:yokohama-calendar-109079@city.yokohama.jp
CREATED:20260110T150356+0900
LOCATION:浅間コミュニティハウス 
TRANSP:OPAQUE
SEQUENCE:0
SUMMARY:こどもの日イベント 鯉のぼりを完成させよう
DESCRIPTION:自分で好きなうろこの模様を描いて館内の大きな鯉のぼりを完成させよう。プチプレゼントもあります。
PRIORITY:0
CLASS:PUBLIC
END:VEVENT

BEGIN:VEVENT
DTSTART;VALUE=DATE:20260504
DTEND;VALUE=DATE:20260505
DTSTAMP:20260110T150356+0900
UID:yokohama-calendar-109079@city.yokohama.jp
CREATED:20260110T150356+0900
LOCATION:浅間コミュニティハウス 
TRANSP:OPAQUE
SEQUENCE:0
SUMMARY:こどもの日イベント 鯉のぼりを完成させよう
DESCRIPTION:自分で好きなうろこの模様を描いて館内の大きな鯉のぼりを完成させよう。プチプレゼントもあります。
PRIORITY:0
CLASS:PUBLIC
END:VEVENT

BEGIN:VEVENT
DTSTART;VALUE=DATE:20260505
DTEND;VALUE=DATE:20260506
DTSTAMP:20260110T150356+0900
UID:yokohama-calendar-109079@city.yokohama.jp
CREATED:20260110T150356+0900
LOCATION:浅間コミュニティハウス 
TRANSP:OPAQUE
SEQUENCE:0
SUMMARY:こどもの日イベント 鯉のぼりを完成させよう
DESCRIPTION:自分で好きなうろこの模様を描いて館内の大きな鯉のぼりを完成させよう。プチプレゼントもあります。
PRIORITY:0
CLASS:PUBLIC
END:VEVENT



END:VCALENDAR